BEGIN:VCALENDAR
VERSION:2.0
PRODID:icalendar-ruby
CALSCALE:GREGORIAN
METHOD:PUBLISH
BEGIN:VEVENT
DTSTAMP:20260424T171843Z
UID:70-1072534@breakthrough.org.au
DTSTART:20260524T040000Z
DTEND:20260524T050000Z
CLASS:PUBLIC
CREATED:20260424T173207
DESCRIPTION:Come and join us for a relaxed group walk through beautiful Jel
 ls Park as we collide fitness\, faith\, and fellowship.\nWhether you’re 
 a speedy stroller or a steady wanderer\, there’s no pressure—just brin
 g your water bottle\, comfy shoes\, and a heart ready for connection.\nWe
 ’ll follow the 30-minute walking track that circles Jells Park Lake (and
  the famous Bin Chicken Island!). You can stroll the track once over the h
 our\, walk it twice at a strong pace\, or even sprint it. There’ll be op
 tions for everyone to go at their own pace.\nAfterwards\, we often like to
  finish by grabbing a takeaway drink from the café.\nIt’s a wonderful w
 ay to spend time with your church community\, breathe in the fresh air\, a
 nd walk out your faith—together.\nPlease meet at Madeline's Café so we
  can all head off together.
LAST-MODIFIED:20260424T173207
LOCATION:
SUMMARY:Community Collision Walk
URL;VALUE=URI:https://www.breakthrough.org.au/events/community-collision-wa
 lk/2026-05-24
ATTACH;FILENAME=Web Thumnbails (6).png;FMTTYPE=image/png:https://dq5pwpg1q8
 ru0.cloudfront.net/2025/08/29/05/13/19/3f04db76-b43a-4a1d-9b17-50d8d4919e3
 3/Web%20Thumnbails%20(6).png
END:VEVENT
END:VCALENDAR
