BEGIN:VCALENDAR
VERSION:2.0
PRODID:icalendar-ruby
CALSCALE:GREGORIAN
METHOD:PUBLISH
BEGIN:VEVENT
DTSTAMP:20260424T171402Z
UID:68-1072551@breakthrough.org.au
DTSTART:20260829T040000Z
DTEND:20260829T063000Z
CLASS:PUBLIC
CREATED:20260424T194114
DESCRIPTION:We’re so excited to be launching Collision Workshops — a ne
 w initiative designed to help people collide their passions with the Kingd
 om.\nAnd we’re kicking it off with something special: a free acting work
 shop just for kids and teens who love the stage!\nLed by Brooke Lewis\, th
 is hands-on workshop is packed with fun\, faith\, and practical tools to g
 row in the art of acting — all in a God-honouring\, encouraging environm
 ent.\nParticipants can sign up to perform a scene that Brooke will select 
 for them\, receive personal feedback\, and take part in live teaching and 
 exercises.Prefer to watch and learn? Sign up as an auditor and soak it all
  in from the sidelines without performing.\nWhether your child is a born p
 erformer or just curious about acting\, this is a powerful space to explor
 e creativity\, storytelling\, and how to honour God with their gifts.\n \
 nclick here to register
LAST-MODIFIED:20260424T194114
LOCATION:31 Michellan Crt\, Basywater
SUMMARY:Collision Workshops: Young Actors’ Workshop
URL;VALUE=URI:https://www.breakthrough.org.au/events/collision-workshops-yo
 ung-actors-workshop/2026-08-29
ATTACH;FILENAME=Web Thumnbails (1).png;FMTTYPE=image/png:https://dq5pwpg1q8
 ru0.cloudfront.net/2026/04/24/09/41/14/2435b88e-fa39-4691-8666-30a30a66af2
 b/Web%20Thumnbails%20(1).png
END:VEVENT
END:VCALENDAR
