BEGIN:VCALENDAR
VERSION:2.0
PRODID:icalendar-ruby
CALSCALE:GREGORIAN
METHOD:PUBLISH
BEGIN:VEVENT
DTSTAMP:20260424T171039Z
UID:73-1072549@breakthrough.org.au
DTSTART:20261017T230000Z
DTEND:20261018T030000Z
CLASS:PUBLIC
CREATED:20260424T193730
DESCRIPTION:
LAST-MODIFIED:20260424T193730
LOCATION:31 Michellan Court\, Bayswater
SUMMARY:Championship Sunday
URL;VALUE=URI:https://www.breakthrough.org.au/events/championship-sunday/20
 26-10-18
ATTACH;FILENAME=Web Thumnbails.png;FMTTYPE=image/png:https://dq5pwpg1q8ru0.
 cloudfront.net/2026/04/24/09/37/30/4f40c31e-4da1-48b6-9502-0829e923ffaf/We
 b%20Thumnbails.png
END:VEVENT
END:VCALENDAR
